BEGIN:VCALENDAR
VERSION:2.0
PRODID:-//Bienvenidos Food Bank - ECPv6.15.20//NONSGML v1.0//EN
CALSCALE:GREGORIAN
METHOD:PUBLISH
X-WR-CALNAME:Bienvenidos Food Bank
X-ORIGINAL-URL:https://bienvenidosfoodbank.org
X-WR-CALDESC:Events for Bienvenidos Food Bank
REFRESH-INTERVAL;VALUE=DURATION:PT1H
X-Robots-Tag:noindex
X-PUBLISHED-TTL:PT1H
BEGIN:VTIMEZONE
TZID:America/Denver
BEGIN:DAYLIGHT
TZOFFSETFROM:-0700
TZOFFSETTO:-0600
TZNAME:MDT
DTSTART:20240310T090000
END:DAYLIGHT
BEGIN:STANDARD
TZOFFSETFROM:-0600
TZOFFSETTO:-0700
TZNAME:MST
DTSTART:20241103T080000
END:STANDARD
BEGIN:DAYLIGHT
TZOFFSETFROM:-0700
TZOFFSETTO:-0600
TZNAME:MDT
DTSTART:20250309T090000
END:DAYLIGHT
BEGIN:STANDARD
TZOFFSETFROM:-0600
TZOFFSETTO:-0700
TZNAME:MST
DTSTART:20251102T080000
END:STANDARD
BEGIN:DAYLIGHT
TZOFFSETFROM:-0700
TZOFFSETTO:-0600
TZNAME:MDT
DTSTART:20260308T090000
END:DAYLIGHT
BEGIN:STANDARD
TZOFFSETFROM:-0600
TZOFFSETTO:-0700
TZNAME:MST
DTSTART:20261101T080000
END:STANDARD
END:VTIMEZONE
BEGIN:VTIMEZONE
TZID:UTC
BEGIN:STANDARD
TZOFFSETFROM:+0000
TZOFFSETTO:+0000
TZNAME:UTC
DTSTART:20240101T000000
END:STANDARD
END:VTIMEZONE
BEGIN:VEVENT
DTSTART;TZID=America/Denver:20250710T100000
DTEND;TZID=America/Denver:20250710T120000
DTSTAMP:20260419T214708
CREATED:20240223T001543Z
LAST-MODIFIED:20251024T212518Z
UID:10001381-1752141600-1752148800@bienvenidosfoodbank.org
SUMMARY:Food Pantry - 3810 Pecos St.  Morning: 10am to Noon
DESCRIPTION:Bienvenidos Food Bank 3810 Pecos Street\, Denver\, CO\, United States\n\n\n10:00 am to noon & 3:30 pm to 5:30 pm Drop in registration only. We serve by household not individuals. Please have an ID ready. \nParking: available at 39th and Pecos St. on food bank days only. \nWheelchair or disabled access: Please let someone know in front that you need assistance and we’ll accommodate you.
URL:https://bienvenidosfoodbank.org/event/pecos-pantry-morning/2025-07-10/
END:VEVENT
BEGIN:VEVENT
DTSTART;TZID=America/Denver:20250703T153000
DTEND;TZID=America/Denver:20250703T173000
DTSTAMP:20260419T214708
CREATED:20230912T203038Z
LAST-MODIFIED:20251024T212923Z
UID:10001163-1751556600-1751563800@bienvenidosfoodbank.org
SUMMARY:Food Pantry - 3810 Pecos St.  Afternoon: 3:30 pm to 5:30 pm
DESCRIPTION:10:00 am to noon & 3:30 pm to 5:30 pm \nDrop in registration only. We serve by household not individual. Please have ID ready. \nParking: available at 39th and Pecos St. on food bank days only. \nWheelchair or disabled access: Please let someone know in front that you need assistance and we’ll accommodate you.
URL:https://bienvenidosfoodbank.org/event/food-pantry-5-2/2025-07-03/
LOCATION:Bienvenidos Food Bank\, 3810 Pecos Street\, Denver\, CO\, 80211\, United States
CATEGORIES:Food Pantry
END:VEVENT
BEGIN:VEVENT
DTSTART;TZID=America/Denver:20250703T100000
DTEND;TZID=America/Denver:20250703T120000
DTSTAMP:20260419T214708
CREATED:20240223T001543Z
LAST-MODIFIED:20251024T212518Z
UID:10001380-1751536800-1751544000@bienvenidosfoodbank.org
SUMMARY:Food Pantry - 3810 Pecos St.  Morning: 10am to Noon
DESCRIPTION:Bienvenidos Food Bank 3810 Pecos Street\, Denver\, CO\, United States\n\n\n10:00 am to noon & 3:30 pm to 5:30 pm Drop in registration only. We serve by household not individuals. Please have an ID ready. \nParking: available at 39th and Pecos St. on food bank days only. \nWheelchair or disabled access: Please let someone know in front that you need assistance and we’ll accommodate you.
URL:https://bienvenidosfoodbank.org/event/pecos-pantry-morning/2025-07-03/
END:VEVENT
BEGIN:VEVENT
DTSTART;TZID=America/Denver:20250703T100000
DTEND;TZID=America/Denver:20250703T113000
DTSTAMP:20260419T214708
CREATED:20240603T220946Z
LAST-MODIFIED:20240603T224150Z
UID:10001555-1751536800-1751542200@bienvenidosfoodbank.org
SUMMARY:Pet Food Distribution (1st Thur. Only) Parking lot @ 39th & Pecos 10am to 11:30am
DESCRIPTION:The Colorado Pet Pantry will be on-sight this week from 10 am to 11:30. \nPet Food is distributed from the parking lot at 39th & Pecos. Please line up there for check-in and to receive service. \nPlease see CO Pet Pantry volunteers for specific information and sign-up instructions. \nYou may also come down to Bienvenidos Food Pantry for people food (Just up the street at 3810 Pecos St.).  Separate check-in process is required.  Food is available from 10am to noon.
URL:https://bienvenidosfoodbank.org/event/pet-pantry-1st-thursday-parking-lot-at-39th-pecos-10am-to-1130/2025-07-03/
END:VEVENT
BEGIN:VEVENT
DTSTART;TZID=America/Denver:20250626T153000
DTEND;TZID=America/Denver:20250626T173000
DTSTAMP:20260419T214708
CREATED:20230912T203038Z
LAST-MODIFIED:20251024T212923Z
UID:10001162-1750951800-1750959000@bienvenidosfoodbank.org
SUMMARY:Food Pantry - 3810 Pecos St.  Afternoon: 3:30 pm to 5:30 pm
DESCRIPTION:10:00 am to noon & 3:30 pm to 5:30 pm \nDrop in registration only. We serve by household not individual. Please have ID ready. \nParking: available at 39th and Pecos St. on food bank days only. \nWheelchair or disabled access: Please let someone know in front that you need assistance and we’ll accommodate you.
URL:https://bienvenidosfoodbank.org/event/food-pantry-5-2/2025-06-26/
LOCATION:Bienvenidos Food Bank\, 3810 Pecos Street\, Denver\, CO\, 80211\, United States
CATEGORIES:Food Pantry
END:VEVENT
BEGIN:VEVENT
DTSTART;TZID=America/Denver:20250626T100000
DTEND;TZID=America/Denver:20250626T120000
DTSTAMP:20260419T214708
CREATED:20240223T001543Z
LAST-MODIFIED:20251024T212518Z
UID:10001379-1750932000-1750939200@bienvenidosfoodbank.org
SUMMARY:Food Pantry - 3810 Pecos St.  Morning: 10am to Noon
DESCRIPTION:Bienvenidos Food Bank 3810 Pecos Street\, Denver\, CO\, United States\n\n\n10:00 am to noon & 3:30 pm to 5:30 pm Drop in registration only. We serve by household not individuals. Please have an ID ready. \nParking: available at 39th and Pecos St. on food bank days only. \nWheelchair or disabled access: Please let someone know in front that you need assistance and we’ll accommodate you.
URL:https://bienvenidosfoodbank.org/event/pecos-pantry-morning/2025-06-26/
END:VEVENT
BEGIN:VEVENT
DTSTART;TZID=UTC:20250619T100000
DTEND;TZID=UTC:20250619T120000
DTSTAMP:20260419T214708
CREATED:20230912T203525Z
LAST-MODIFIED:20240812T233434Z
UID:10001049-1750327200-1750334400@bienvenidosfoodbank.org
SUMMARY:Mobile Food Pantry @ 4747 West Colfax
DESCRIPTION:10:00 am to Noon \nDrop in registration – please bring ID and current proof of address. \nParking: VFW Lot at 4747 W. Colfax\, Denver 80204 \nWheelchair or disabled access: Available inside and outside \nThis location is CLOSED in NOVEBER & DECEMBER
URL:https://bienvenidosfoodbank.org/event/food-pantry-4-2/2025-06-19/
LOCATION:VFW Building\, 4747 West Colfax\, Denver\, CO\, 80204\, United States
CATEGORIES:Food Pantry
END:VEVENT
BEGIN:VEVENT
DTSTART;TZID=America/Denver:20250612T153000
DTEND;TZID=America/Denver:20250612T173000
DTSTAMP:20260419T214708
CREATED:20230912T203038Z
LAST-MODIFIED:20251024T212923Z
UID:10001161-1749742200-1749749400@bienvenidosfoodbank.org
SUMMARY:Food Pantry - 3810 Pecos St.  Afternoon: 3:30 pm to 5:30 pm
DESCRIPTION:10:00 am to noon & 3:30 pm to 5:30 pm \nDrop in registration only. We serve by household not individual. Please have ID ready. \nParking: available at 39th and Pecos St. on food bank days only. \nWheelchair or disabled access: Please let someone know in front that you need assistance and we’ll accommodate you.
URL:https://bienvenidosfoodbank.org/event/food-pantry-5-2/2025-06-12/
LOCATION:Bienvenidos Food Bank\, 3810 Pecos Street\, Denver\, CO\, 80211\, United States
CATEGORIES:Food Pantry
END:VEVENT
BEGIN:VEVENT
DTSTART;TZID=America/Denver:20250612T100000
DTEND;TZID=America/Denver:20250612T120000
DTSTAMP:20260419T214708
CREATED:20240223T001543Z
LAST-MODIFIED:20251024T212518Z
UID:10001378-1749722400-1749729600@bienvenidosfoodbank.org
SUMMARY:Food Pantry - 3810 Pecos St.  Morning: 10am to Noon
DESCRIPTION:Bienvenidos Food Bank 3810 Pecos Street\, Denver\, CO\, United States\n\n\n10:00 am to noon & 3:30 pm to 5:30 pm Drop in registration only. We serve by household not individuals. Please have an ID ready. \nParking: available at 39th and Pecos St. on food bank days only. \nWheelchair or disabled access: Please let someone know in front that you need assistance and we’ll accommodate you.
URL:https://bienvenidosfoodbank.org/event/pecos-pantry-morning/2025-06-12/
END:VEVENT
BEGIN:VEVENT
DTSTART;TZID=America/Denver:20250605T153000
DTEND;TZID=America/Denver:20250605T173000
DTSTAMP:20260419T214708
CREATED:20230912T203038Z
LAST-MODIFIED:20251024T212923Z
UID:10001160-1749137400-1749144600@bienvenidosfoodbank.org
SUMMARY:Food Pantry - 3810 Pecos St.  Afternoon: 3:30 pm to 5:30 pm
DESCRIPTION:10:00 am to noon & 3:30 pm to 5:30 pm \nDrop in registration only. We serve by household not individual. Please have ID ready. \nParking: available at 39th and Pecos St. on food bank days only. \nWheelchair or disabled access: Please let someone know in front that you need assistance and we’ll accommodate you.
URL:https://bienvenidosfoodbank.org/event/food-pantry-5-2/2025-06-05/
LOCATION:Bienvenidos Food Bank\, 3810 Pecos Street\, Denver\, CO\, 80211\, United States
CATEGORIES:Food Pantry
END:VEVENT
BEGIN:VEVENT
DTSTART;TZID=America/Denver:20250605T100000
DTEND;TZID=America/Denver:20250605T120000
DTSTAMP:20260419T214708
CREATED:20240223T001543Z
LAST-MODIFIED:20251024T212518Z
UID:10001377-1749117600-1749124800@bienvenidosfoodbank.org
SUMMARY:Food Pantry - 3810 Pecos St.  Morning: 10am to Noon
DESCRIPTION:Bienvenidos Food Bank 3810 Pecos Street\, Denver\, CO\, United States\n\n\n10:00 am to noon & 3:30 pm to 5:30 pm Drop in registration only. We serve by household not individuals. Please have an ID ready. \nParking: available at 39th and Pecos St. on food bank days only. \nWheelchair or disabled access: Please let someone know in front that you need assistance and we’ll accommodate you.
URL:https://bienvenidosfoodbank.org/event/pecos-pantry-morning/2025-06-05/
END:VEVENT
BEGIN:VEVENT
DTSTART;TZID=America/Denver:20250605T100000
DTEND;TZID=America/Denver:20250605T113000
DTSTAMP:20260419T214708
CREATED:20240603T220946Z
LAST-MODIFIED:20240603T224150Z
UID:10001554-1749117600-1749123000@bienvenidosfoodbank.org
SUMMARY:Pet Food Distribution (1st Thur. Only) Parking lot @ 39th & Pecos 10am to 11:30am
DESCRIPTION:The Colorado Pet Pantry will be on-sight this week from 10 am to 11:30. \nPet Food is distributed from the parking lot at 39th & Pecos. Please line up there for check-in and to receive service. \nPlease see CO Pet Pantry volunteers for specific information and sign-up instructions. \nYou may also come down to Bienvenidos Food Pantry for people food (Just up the street at 3810 Pecos St.).  Separate check-in process is required.  Food is available from 10am to noon.
URL:https://bienvenidosfoodbank.org/event/pet-pantry-1st-thursday-parking-lot-at-39th-pecos-10am-to-1130/2025-06-05/
END:VEVENT
BEGIN:VEVENT
DTSTART;TZID=America/Denver:20250529T153000
DTEND;TZID=America/Denver:20250529T173000
DTSTAMP:20260419T214708
CREATED:20250415T173410Z
LAST-MODIFIED:20250415T173818Z
UID:10001159-1748532600-1748539800@bienvenidosfoodbank.org
SUMMARY:CLOSED THIS WEEK
DESCRIPTION:10:00 am to noon & 3:30 pm to 5:30 pm \nDrop in registration only. \nParking: available at 39th and Pecos St. on food bank days only. \nWheelchair or disabled access: Please let someone know in front that you need assistance and we’ll accommodate you.
URL:https://bienvenidosfoodbank.org/event/food-pantry-5-2-8/
LOCATION:Bienvenidos Food Bank\, 3810 Pecos Street\, Denver\, CO\, 80211\, United States
CATEGORIES:Food Pantry
END:VEVENT
BEGIN:VEVENT
DTSTART;TZID=America/Denver:20250529T100000
DTEND;TZID=America/Denver:20250529T120000
DTSTAMP:20260419T214708
CREATED:20250415T173250Z
LAST-MODIFIED:20250415T173309Z
UID:10001376-1748512800-1748520000@bienvenidosfoodbank.org
SUMMARY:CLOSED THIS WEEK
DESCRIPTION:Bienvenidos Food Bank 3810 Pecos Street\, Denver\, CO\, United States\n\n\n10:00 am to noon & 3:30 pm to 5:30 pm Drop in registration only. \nParking: available at 39th and Pecos St. on food bank days only. \nWheelchair or disabled access: Please let someone know in front that you need assistance and we’ll accommodate you.
URL:https://bienvenidosfoodbank.org/event/pecos-pantry-morning-7/
END:VEVENT
BEGIN:VEVENT
DTSTART;TZID=America/Denver:20250522T153000
DTEND;TZID=America/Denver:20250522T173000
DTSTAMP:20260419T214708
CREATED:20230912T203038Z
LAST-MODIFIED:20251024T212923Z
UID:10001158-1747927800-1747935000@bienvenidosfoodbank.org
SUMMARY:Food Pantry - 3810 Pecos St.  Afternoon: 3:30 pm to 5:30 pm
DESCRIPTION:10:00 am to noon & 3:30 pm to 5:30 pm \nDrop in registration only. We serve by household not individual. Please have ID ready. \nParking: available at 39th and Pecos St. on food bank days only. \nWheelchair or disabled access: Please let someone know in front that you need assistance and we’ll accommodate you.
URL:https://bienvenidosfoodbank.org/event/food-pantry-5-2/2025-05-22/
LOCATION:Bienvenidos Food Bank\, 3810 Pecos Street\, Denver\, CO\, 80211\, United States
CATEGORIES:Food Pantry
END:VEVENT
BEGIN:VEVENT
DTSTART;TZID=America/Denver:20250522T100000
DTEND;TZID=America/Denver:20250522T120000
DTSTAMP:20260419T214708
CREATED:20240223T001543Z
LAST-MODIFIED:20251024T212518Z
UID:10001375-1747908000-1747915200@bienvenidosfoodbank.org
SUMMARY:Food Pantry - 3810 Pecos St.  Morning: 10am to Noon
DESCRIPTION:Bienvenidos Food Bank 3810 Pecos Street\, Denver\, CO\, United States\n\n\n10:00 am to noon & 3:30 pm to 5:30 pm Drop in registration only. We serve by household not individuals. Please have an ID ready. \nParking: available at 39th and Pecos St. on food bank days only. \nWheelchair or disabled access: Please let someone know in front that you need assistance and we’ll accommodate you.
URL:https://bienvenidosfoodbank.org/event/pecos-pantry-morning/2025-05-22/
END:VEVENT
BEGIN:VEVENT
DTSTART;TZID=UTC:20250515T100000
DTEND;TZID=UTC:20250515T120000
DTSTAMP:20260419T214708
CREATED:20230912T203525Z
LAST-MODIFIED:20240812T233434Z
UID:10001048-1747303200-1747310400@bienvenidosfoodbank.org
SUMMARY:Mobile Food Pantry @ 4747 West Colfax
DESCRIPTION:10:00 am to Noon \nDrop in registration – please bring ID and current proof of address. \nParking: VFW Lot at 4747 W. Colfax\, Denver 80204 \nWheelchair or disabled access: Available inside and outside \nThis location is CLOSED in NOVEBER & DECEMBER
URL:https://bienvenidosfoodbank.org/event/food-pantry-4-2/2025-05-15/
LOCATION:VFW Building\, 4747 West Colfax\, Denver\, CO\, 80204\, United States
CATEGORIES:Food Pantry
END:VEVENT
BEGIN:VEVENT
DTSTART;TZID=America/Denver:20250508T153000
DTEND;TZID=America/Denver:20250508T173000
DTSTAMP:20260419T214708
CREATED:20230912T203038Z
LAST-MODIFIED:20251024T212923Z
UID:10001157-1746718200-1746725400@bienvenidosfoodbank.org
SUMMARY:Food Pantry - 3810 Pecos St.  Afternoon: 3:30 pm to 5:30 pm
DESCRIPTION:10:00 am to noon & 3:30 pm to 5:30 pm \nDrop in registration only. We serve by household not individual. Please have ID ready. \nParking: available at 39th and Pecos St. on food bank days only. \nWheelchair or disabled access: Please let someone know in front that you need assistance and we’ll accommodate you.
URL:https://bienvenidosfoodbank.org/event/food-pantry-5-2/2025-05-08/
LOCATION:Bienvenidos Food Bank\, 3810 Pecos Street\, Denver\, CO\, 80211\, United States
CATEGORIES:Food Pantry
END:VEVENT
BEGIN:VEVENT
DTSTART;TZID=America/Denver:20250508T100000
DTEND;TZID=America/Denver:20250508T120000
DTSTAMP:20260419T214708
CREATED:20240223T001543Z
LAST-MODIFIED:20251024T212518Z
UID:10001374-1746698400-1746705600@bienvenidosfoodbank.org
SUMMARY:Food Pantry - 3810 Pecos St.  Morning: 10am to Noon
DESCRIPTION:Bienvenidos Food Bank 3810 Pecos Street\, Denver\, CO\, United States\n\n\n10:00 am to noon & 3:30 pm to 5:30 pm Drop in registration only. We serve by household not individuals. Please have an ID ready. \nParking: available at 39th and Pecos St. on food bank days only. \nWheelchair or disabled access: Please let someone know in front that you need assistance and we’ll accommodate you.
URL:https://bienvenidosfoodbank.org/event/pecos-pantry-morning/2025-05-08/
END:VEVENT
BEGIN:VEVENT
DTSTART;TZID=America/Denver:20250501T153000
DTEND;TZID=America/Denver:20250501T173000
DTSTAMP:20260419T214708
CREATED:20230912T203038Z
LAST-MODIFIED:20251024T212923Z
UID:10001156-1746113400-1746120600@bienvenidosfoodbank.org
SUMMARY:Food Pantry - 3810 Pecos St.  Afternoon: 3:30 pm to 5:30 pm
DESCRIPTION:10:00 am to noon & 3:30 pm to 5:30 pm \nDrop in registration only. We serve by household not individual. Please have ID ready. \nParking: available at 39th and Pecos St. on food bank days only. \nWheelchair or disabled access: Please let someone know in front that you need assistance and we’ll accommodate you.
URL:https://bienvenidosfoodbank.org/event/food-pantry-5-2/2025-05-01/
LOCATION:Bienvenidos Food Bank\, 3810 Pecos Street\, Denver\, CO\, 80211\, United States
CATEGORIES:Food Pantry
END:VEVENT
BEGIN:VEVENT
DTSTART;TZID=America/Denver:20250501T100000
DTEND;TZID=America/Denver:20250501T120000
DTSTAMP:20260419T214708
CREATED:20240223T001543Z
LAST-MODIFIED:20251024T212518Z
UID:10001373-1746093600-1746100800@bienvenidosfoodbank.org
SUMMARY:Food Pantry - 3810 Pecos St.  Morning: 10am to Noon
DESCRIPTION:Bienvenidos Food Bank 3810 Pecos Street\, Denver\, CO\, United States\n\n\n10:00 am to noon & 3:30 pm to 5:30 pm Drop in registration only. We serve by household not individuals. Please have an ID ready. \nParking: available at 39th and Pecos St. on food bank days only. \nWheelchair or disabled access: Please let someone know in front that you need assistance and we’ll accommodate you.
URL:https://bienvenidosfoodbank.org/event/pecos-pantry-morning/2025-05-01/
END:VEVENT
BEGIN:VEVENT
DTSTART;TZID=America/Denver:20250501T100000
DTEND;TZID=America/Denver:20250501T113000
DTSTAMP:20260419T214708
CREATED:20240603T220946Z
LAST-MODIFIED:20240603T224150Z
UID:10001553-1746093600-1746099000@bienvenidosfoodbank.org
SUMMARY:Pet Food Distribution (1st Thur. Only) Parking lot @ 39th & Pecos 10am to 11:30am
DESCRIPTION:The Colorado Pet Pantry will be on-sight this week from 10 am to 11:30. \nPet Food is distributed from the parking lot at 39th & Pecos. Please line up there for check-in and to receive service. \nPlease see CO Pet Pantry volunteers for specific information and sign-up instructions. \nYou may also come down to Bienvenidos Food Pantry for people food (Just up the street at 3810 Pecos St.).  Separate check-in process is required.  Food is available from 10am to noon.
URL:https://bienvenidosfoodbank.org/event/pet-pantry-1st-thursday-parking-lot-at-39th-pecos-10am-to-1130/2025-05-01/
END:VEVENT
BEGIN:VEVENT
DTSTART;TZID=America/Denver:20250424T153000
DTEND;TZID=America/Denver:20250424T173000
DTSTAMP:20260419T214708
CREATED:20230912T203038Z
LAST-MODIFIED:20251024T212923Z
UID:10001155-1745508600-1745515800@bienvenidosfoodbank.org
SUMMARY:Food Pantry - 3810 Pecos St.  Afternoon: 3:30 pm to 5:30 pm
DESCRIPTION:10:00 am to noon & 3:30 pm to 5:30 pm \nDrop in registration only. We serve by household not individual. Please have ID ready. \nParking: available at 39th and Pecos St. on food bank days only. \nWheelchair or disabled access: Please let someone know in front that you need assistance and we’ll accommodate you.
URL:https://bienvenidosfoodbank.org/event/food-pantry-5-2/2025-04-24/
LOCATION:Bienvenidos Food Bank\, 3810 Pecos Street\, Denver\, CO\, 80211\, United States
CATEGORIES:Food Pantry
END:VEVENT
BEGIN:VEVENT
DTSTART;TZID=America/Denver:20250424T100000
DTEND;TZID=America/Denver:20250424T120000
DTSTAMP:20260419T214708
CREATED:20240223T001543Z
LAST-MODIFIED:20251024T212518Z
UID:10001372-1745488800-1745496000@bienvenidosfoodbank.org
SUMMARY:Food Pantry - 3810 Pecos St.  Morning: 10am to Noon
DESCRIPTION:Bienvenidos Food Bank 3810 Pecos Street\, Denver\, CO\, United States\n\n\n10:00 am to noon & 3:30 pm to 5:30 pm Drop in registration only. We serve by household not individuals. Please have an ID ready. \nParking: available at 39th and Pecos St. on food bank days only. \nWheelchair or disabled access: Please let someone know in front that you need assistance and we’ll accommodate you.
URL:https://bienvenidosfoodbank.org/event/pecos-pantry-morning/2025-04-24/
END:VEVENT
BEGIN:VEVENT
DTSTART;TZID=UTC:20250417T100000
DTEND;TZID=UTC:20250417T120000
DTSTAMP:20260419T214708
CREATED:20230912T203525Z
LAST-MODIFIED:20240812T233434Z
UID:10001047-1744884000-1744891200@bienvenidosfoodbank.org
SUMMARY:Mobile Food Pantry @ 4747 West Colfax
DESCRIPTION:10:00 am to Noon \nDrop in registration – please bring ID and current proof of address. \nParking: VFW Lot at 4747 W. Colfax\, Denver 80204 \nWheelchair or disabled access: Available inside and outside \nThis location is CLOSED in NOVEBER & DECEMBER
URL:https://bienvenidosfoodbank.org/event/food-pantry-4-2/2025-04-17/
LOCATION:VFW Building\, 4747 West Colfax\, Denver\, CO\, 80204\, United States
CATEGORIES:Food Pantry
END:VEVENT
BEGIN:VEVENT
DTSTART;TZID=America/Denver:20250410T153000
DTEND;TZID=America/Denver:20250410T173000
DTSTAMP:20260419T214708
CREATED:20230912T203038Z
LAST-MODIFIED:20251024T212923Z
UID:10001154-1744299000-1744306200@bienvenidosfoodbank.org
SUMMARY:Food Pantry - 3810 Pecos St.  Afternoon: 3:30 pm to 5:30 pm
DESCRIPTION:10:00 am to noon & 3:30 pm to 5:30 pm \nDrop in registration only. We serve by household not individual. Please have ID ready. \nParking: available at 39th and Pecos St. on food bank days only. \nWheelchair or disabled access: Please let someone know in front that you need assistance and we’ll accommodate you.
URL:https://bienvenidosfoodbank.org/event/food-pantry-5-2/2025-04-10/
LOCATION:Bienvenidos Food Bank\, 3810 Pecos Street\, Denver\, CO\, 80211\, United States
CATEGORIES:Food Pantry
END:VEVENT
BEGIN:VEVENT
DTSTART;TZID=America/Denver:20250410T100000
DTEND;TZID=America/Denver:20250410T120000
DTSTAMP:20260419T214708
CREATED:20240223T001543Z
LAST-MODIFIED:20251024T212518Z
UID:10001371-1744279200-1744286400@bienvenidosfoodbank.org
SUMMARY:Food Pantry - 3810 Pecos St.  Morning: 10am to Noon
DESCRIPTION:Bienvenidos Food Bank 3810 Pecos Street\, Denver\, CO\, United States\n\n\n10:00 am to noon & 3:30 pm to 5:30 pm Drop in registration only. We serve by household not individuals. Please have an ID ready. \nParking: available at 39th and Pecos St. on food bank days only. \nWheelchair or disabled access: Please let someone know in front that you need assistance and we’ll accommodate you.
URL:https://bienvenidosfoodbank.org/event/pecos-pantry-morning/2025-04-10/
END:VEVENT
BEGIN:VEVENT
DTSTART;TZID=America/Denver:20250403T153000
DTEND;TZID=America/Denver:20250403T173000
DTSTAMP:20260419T214708
CREATED:20230912T203038Z
LAST-MODIFIED:20251024T212923Z
UID:10001153-1743694200-1743701400@bienvenidosfoodbank.org
SUMMARY:Food Pantry - 3810 Pecos St.  Afternoon: 3:30 pm to 5:30 pm
DESCRIPTION:10:00 am to noon & 3:30 pm to 5:30 pm \nDrop in registration only. We serve by household not individual. Please have ID ready. \nParking: available at 39th and Pecos St. on food bank days only. \nWheelchair or disabled access: Please let someone know in front that you need assistance and we’ll accommodate you.
URL:https://bienvenidosfoodbank.org/event/food-pantry-5-2/2025-04-03/
LOCATION:Bienvenidos Food Bank\, 3810 Pecos Street\, Denver\, CO\, 80211\, United States
CATEGORIES:Food Pantry
END:VEVENT
BEGIN:VEVENT
DTSTART;TZID=America/Denver:20250403T100000
DTEND;TZID=America/Denver:20250403T120000
DTSTAMP:20260419T214708
CREATED:20240223T001543Z
LAST-MODIFIED:20251024T212518Z
UID:10001370-1743674400-1743681600@bienvenidosfoodbank.org
SUMMARY:Food Pantry - 3810 Pecos St.  Morning: 10am to Noon
DESCRIPTION:Bienvenidos Food Bank 3810 Pecos Street\, Denver\, CO\, United States\n\n\n10:00 am to noon & 3:30 pm to 5:30 pm Drop in registration only. We serve by household not individuals. Please have an ID ready. \nParking: available at 39th and Pecos St. on food bank days only. \nWheelchair or disabled access: Please let someone know in front that you need assistance and we’ll accommodate you.
URL:https://bienvenidosfoodbank.org/event/pecos-pantry-morning/2025-04-03/
END:VEVENT
BEGIN:VEVENT
DTSTART;TZID=America/Denver:20250403T100000
DTEND;TZID=America/Denver:20250403T113000
DTSTAMP:20260419T214708
CREATED:20240603T220946Z
LAST-MODIFIED:20240603T224150Z
UID:10001552-1743674400-1743679800@bienvenidosfoodbank.org
SUMMARY:Pet Food Distribution (1st Thur. Only) Parking lot @ 39th & Pecos 10am to 11:30am
DESCRIPTION:The Colorado Pet Pantry will be on-sight this week from 10 am to 11:30. \nPet Food is distributed from the parking lot at 39th & Pecos. Please line up there for check-in and to receive service. \nPlease see CO Pet Pantry volunteers for specific information and sign-up instructions. \nYou may also come down to Bienvenidos Food Pantry for people food (Just up the street at 3810 Pecos St.).  Separate check-in process is required.  Food is available from 10am to noon.
URL:https://bienvenidosfoodbank.org/event/pet-pantry-1st-thursday-parking-lot-at-39th-pecos-10am-to-1130/2025-04-03/
END:VEVENT
END:VCALENDAR