BEGIN:VCALENDAR
VERSION:2.0
PRODID:-//Bienvenidos Food Bank - ECPv6.15.20//NONSGML v1.0//EN
CALSCALE:GREGORIAN
METHOD:PUBLISH
X-WR-CALNAME:Bienvenidos Food Bank
X-ORIGINAL-URL:https://bienvenidosfoodbank.org
X-WR-CALDESC:Events for Bienvenidos Food Bank
REFRESH-INTERVAL;VALUE=DURATION:PT1H
X-Robots-Tag:noindex
X-PUBLISHED-TTL:PT1H
BEGIN:VTIMEZONE
TZID:America/Denver
BEGIN:DAYLIGHT
TZOFFSETFROM:-0700
TZOFFSETTO:-0600
TZNAME:MDT
DTSTART:20230312T090000
END:DAYLIGHT
BEGIN:STANDARD
TZOFFSETFROM:-0600
TZOFFSETTO:-0700
TZNAME:MST
DTSTART:20231105T080000
END:STANDARD
BEGIN:DAYLIGHT
TZOFFSETFROM:-0700
TZOFFSETTO:-0600
TZNAME:MDT
DTSTART:20240310T090000
END:DAYLIGHT
BEGIN:STANDARD
TZOFFSETFROM:-0600
TZOFFSETTO:-0700
TZNAME:MST
DTSTART:20241103T080000
END:STANDARD
BEGIN:DAYLIGHT
TZOFFSETFROM:-0700
TZOFFSETTO:-0600
TZNAME:MDT
DTSTART:20250309T090000
END:DAYLIGHT
BEGIN:STANDARD
TZOFFSETFROM:-0600
TZOFFSETTO:-0700
TZNAME:MST
DTSTART:20251102T080000
END:STANDARD
BEGIN:DAYLIGHT
TZOFFSETFROM:-0700
TZOFFSETTO:-0600
TZNAME:MDT
DTSTART:20260308T090000
END:DAYLIGHT
BEGIN:STANDARD
TZOFFSETFROM:-0600
TZOFFSETTO:-0700
TZNAME:MST
DTSTART:20261101T080000
END:STANDARD
END:VTIMEZONE
BEGIN:VTIMEZONE
TZID:UTC
BEGIN:STANDARD
TZOFFSETFROM:+0000
TZOFFSETTO:+0000
TZNAME:UTC
DTSTART:20230101T000000
END:STANDARD
END:VTIMEZONE
BEGIN:VEVENT
DTSTART;TZID=America/Denver:20250206T100000
DTEND;TZID=America/Denver:20250206T113000
DTSTAMP:20260422T162319
CREATED:20240603T220946Z
LAST-MODIFIED:20240603T224150Z
UID:10001550-1738836000-1738841400@bienvenidosfoodbank.org
SUMMARY:Pet Food Distribution (1st Thur. Only) Parking lot @ 39th & Pecos 10am to 11:30am
DESCRIPTION:The Colorado Pet Pantry will be on-sight this week from 10 am to 11:30. \nPet Food is distributed from the parking lot at 39th & Pecos. Please line up there for check-in and to receive service. \nPlease see CO Pet Pantry volunteers for specific information and sign-up instructions. \nYou may also come down to Bienvenidos Food Pantry for people food (Just up the street at 3810 Pecos St.).  Separate check-in process is required.  Food is available from 10am to noon.
URL:https://bienvenidosfoodbank.org/event/pet-pantry-1st-thursday-parking-lot-at-39th-pecos-10am-to-1130/2025-02-06/
LOCATION:CO
END:VEVENT
BEGIN:VEVENT
DTSTART;TZID=America/Denver:20250130T153000
DTEND;TZID=America/Denver:20250130T173000
DTSTAMP:20260422T162319
CREATED:20230912T203038Z
LAST-MODIFIED:20251024T212923Z
UID:10001146-1738251000-1738258200@bienvenidosfoodbank.org
SUMMARY:Food Pantry - 3810 Pecos St.  Afternoon: 3:30 pm to 5:30 pm
DESCRIPTION:10:00 am to noon & 3:30 pm to 5:30 pm \nDrop in registration only. We serve by household not individual. Please have ID ready. \nParking: available at 39th and Pecos St. on food bank days only. \nWheelchair or disabled access: Please let someone know in front that you need assistance and we’ll accommodate you.
URL:https://bienvenidosfoodbank.org/event/food-pantry-5-2/2025-01-30/
LOCATION:Bienvenidos Food Bank\, 3810 Pecos Street\, Denver\, CO\, 80211\, United States
CATEGORIES:Food Pantry
END:VEVENT
BEGIN:VEVENT
DTSTART;TZID=America/Denver:20250130T100000
DTEND;TZID=America/Denver:20250130T120000
DTSTAMP:20260422T162319
CREATED:20240223T001543Z
LAST-MODIFIED:20251024T212518Z
UID:10001363-1738231200-1738238400@bienvenidosfoodbank.org
SUMMARY:Food Pantry - 3810 Pecos St.  Morning: 10am to Noon
DESCRIPTION:Bienvenidos Food Bank 3810 Pecos Street\, Denver\, CO\, United States\n\n\n10:00 am to noon & 3:30 pm to 5:30 pm Drop in registration only. We serve by household not individuals. Please have an ID ready. \nParking: available at 39th and Pecos St. on food bank days only. \nWheelchair or disabled access: Please let someone know in front that you need assistance and we’ll accommodate you.
URL:https://bienvenidosfoodbank.org/event/pecos-pantry-morning/2025-01-30/
LOCATION:CO
END:VEVENT
BEGIN:VEVENT
DTSTART;TZID=America/Denver:20250123T153000
DTEND;TZID=America/Denver:20250123T173000
DTSTAMP:20260422T162319
CREATED:20230912T203038Z
LAST-MODIFIED:20251024T212923Z
UID:10001145-1737646200-1737653400@bienvenidosfoodbank.org
SUMMARY:Food Pantry - 3810 Pecos St.  Afternoon: 3:30 pm to 5:30 pm
DESCRIPTION:10:00 am to noon & 3:30 pm to 5:30 pm \nDrop in registration only. We serve by household not individual. Please have ID ready. \nParking: available at 39th and Pecos St. on food bank days only. \nWheelchair or disabled access: Please let someone know in front that you need assistance and we’ll accommodate you.
URL:https://bienvenidosfoodbank.org/event/food-pantry-5-2/2025-01-23/
LOCATION:Bienvenidos Food Bank\, 3810 Pecos Street\, Denver\, CO\, 80211\, United States
CATEGORIES:Food Pantry
END:VEVENT
BEGIN:VEVENT
DTSTART;TZID=America/Denver:20250123T100000
DTEND;TZID=America/Denver:20250123T120000
DTSTAMP:20260422T162319
CREATED:20240223T001543Z
LAST-MODIFIED:20251024T212518Z
UID:10001362-1737626400-1737633600@bienvenidosfoodbank.org
SUMMARY:Food Pantry - 3810 Pecos St.  Morning: 10am to Noon
DESCRIPTION:Bienvenidos Food Bank 3810 Pecos Street\, Denver\, CO\, United States\n\n\n10:00 am to noon & 3:30 pm to 5:30 pm Drop in registration only. We serve by household not individuals. Please have an ID ready. \nParking: available at 39th and Pecos St. on food bank days only. \nWheelchair or disabled access: Please let someone know in front that you need assistance and we’ll accommodate you.
URL:https://bienvenidosfoodbank.org/event/pecos-pantry-morning/2025-01-23/
LOCATION:CO
END:VEVENT
BEGIN:VEVENT
DTSTART;TZID=UTC:20250116T100000
DTEND;TZID=UTC:20250116T120000
DTSTAMP:20260422T162319
CREATED:20230912T203525Z
LAST-MODIFIED:20240812T233434Z
UID:10001044-1737021600-1737028800@bienvenidosfoodbank.org
SUMMARY:Mobile Food Pantry @ 4747 West Colfax
DESCRIPTION:10:00 am to Noon \nDrop in registration – please bring ID and current proof of address. \nParking: VFW Lot at 4747 W. Colfax\, Denver 80204 \nWheelchair or disabled access: Available inside and outside \nThis location is CLOSED in NOVEBER & DECEMBER
URL:https://bienvenidosfoodbank.org/event/food-pantry-4-2/2025-01-16/
LOCATION:VFW Building\, 4747 West Colfax\, Denver\, CO\, 80204\, United States
CATEGORIES:Food Pantry
END:VEVENT
BEGIN:VEVENT
DTSTART;TZID=America/Denver:20250109T153000
DTEND;TZID=America/Denver:20250109T173000
DTSTAMP:20260422T162319
CREATED:20230912T203038Z
LAST-MODIFIED:20251024T212923Z
UID:10001144-1736436600-1736443800@bienvenidosfoodbank.org
SUMMARY:Food Pantry - 3810 Pecos St.  Afternoon: 3:30 pm to 5:30 pm
DESCRIPTION:10:00 am to noon & 3:30 pm to 5:30 pm \nDrop in registration only. We serve by household not individual. Please have ID ready. \nParking: available at 39th and Pecos St. on food bank days only. \nWheelchair or disabled access: Please let someone know in front that you need assistance and we’ll accommodate you.
URL:https://bienvenidosfoodbank.org/event/food-pantry-5-2/2025-01-09/
LOCATION:Bienvenidos Food Bank\, 3810 Pecos Street\, Denver\, CO\, 80211\, United States
CATEGORIES:Food Pantry
END:VEVENT
BEGIN:VEVENT
DTSTART;TZID=America/Denver:20250109T100000
DTEND;TZID=America/Denver:20250109T120000
DTSTAMP:20260422T162319
CREATED:20240223T001543Z
LAST-MODIFIED:20251024T212518Z
UID:10001361-1736416800-1736424000@bienvenidosfoodbank.org
SUMMARY:Food Pantry - 3810 Pecos St.  Morning: 10am to Noon
DESCRIPTION:Bienvenidos Food Bank 3810 Pecos Street\, Denver\, CO\, United States\n\n\n10:00 am to noon & 3:30 pm to 5:30 pm Drop in registration only. We serve by household not individuals. Please have an ID ready. \nParking: available at 39th and Pecos St. on food bank days only. \nWheelchair or disabled access: Please let someone know in front that you need assistance and we’ll accommodate you.
URL:https://bienvenidosfoodbank.org/event/pecos-pantry-morning/2025-01-09/
LOCATION:CO
END:VEVENT
BEGIN:VEVENT
DTSTART;TZID=America/Denver:20250102T153000
DTEND;TZID=America/Denver:20250102T173000
DTSTAMP:20260422T162319
CREATED:20240812T233224Z
LAST-MODIFIED:20240812T233225Z
UID:10001143-1735831800-1735839000@bienvenidosfoodbank.org
SUMMARY:Closed - Happy New Year!
DESCRIPTION:10:00 am to noon & 3:30 pm to 5:30 pm \nDrop in registration – please bring ID and current proof of address. \nParking: available at 39th and Pecos St. on food bank days only. \nWheelchair or disabled access: Please let someone know in front that you need assistance and we’ll accommodate you.
URL:https://bienvenidosfoodbank.org/event/food-pantry-5-2-6/
LOCATION:Bienvenidos Food Bank\, 3810 Pecos Street\, Denver\, CO\, 80211\, United States
CATEGORIES:Food Pantry
END:VEVENT
BEGIN:VEVENT
DTSTART;TZID=America/Denver:20250102T100000
DTEND;TZID=America/Denver:20250102T120000
DTSTAMP:20260422T162319
CREATED:20240812T233031Z
LAST-MODIFIED:20240911T174105Z
UID:10001360-1735812000-1735819200@bienvenidosfoodbank.org
SUMMARY:Food Bank is Closed - PET PANTRY IS OPEN 10-11:30
DESCRIPTION:Bienvenidos Food Bank is closed this week for New Year’s. \nThe Colorado Pet Pantry will be OPEN today from 10 to 11:30 \nParking lot at 39th & Pecos
URL:https://bienvenidosfoodbank.org/event/pecos-pantry-morning-6/
LOCATION:CO
END:VEVENT
BEGIN:VEVENT
DTSTART;TZID=America/Denver:20241226T153000
DTEND;TZID=America/Denver:20241226T173000
DTSTAMP:20260422T162319
CREATED:20240812T232539Z
LAST-MODIFIED:20240812T232805Z
UID:10001142-1735227000-1735234200@bienvenidosfoodbank.org
SUMMARY:Closed this week - Happy Holidays!
DESCRIPTION:10:00 am to noon & 3:30 pm to 5:30 pm \nDrop in registration – please bring ID and current proof of address. \nParking: available at 39th and Pecos St. on food bank days only. \nWheelchair or disabled access: Please let someone know in front that you need assistance and we’ll accommodate you.
URL:https://bienvenidosfoodbank.org/event/food-pantry-5-2-5/
LOCATION:Bienvenidos Food Bank\, 3810 Pecos Street\, Denver\, CO\, 80211\, United States
CATEGORIES:Food Pantry
END:VEVENT
BEGIN:VEVENT
DTSTART;TZID=America/Denver:20241226T100000
DTEND;TZID=America/Denver:20241226T120000
DTSTAMP:20260422T162319
CREATED:20240812T231734Z
LAST-MODIFIED:20240812T231735Z
UID:10001359-1735207200-1735214400@bienvenidosfoodbank.org
SUMMARY:Closed for the Holidays
DESCRIPTION:
URL:https://bienvenidosfoodbank.org/event/pecos-pantry-morning-5/
LOCATION:CO
END:VEVENT
BEGIN:VEVENT
DTSTART;TZID=UTC:20241219T100000
DTEND;TZID=UTC:20241219T120000
DTSTAMP:20260422T162319
CREATED:20240812T230919Z
LAST-MODIFIED:20240812T231546Z
UID:10001043-1734602400-1734609600@bienvenidosfoodbank.org
SUMMARY:Food Pantry @ 3810 Pecos (no mobile this month)
DESCRIPTION:10:00 am to Noon & 3:30 to 5:30 \nDrop in registration – please bring ID and current proof of address. \nParking: 39th and Pecos \nWheelchair or disabled access: Available inside and outside \n 
URL:https://bienvenidosfoodbank.org/event/food-pantry-4-2-3/
LOCATION:Bienvenidos Food Bank\, 3810 Pecos Street\, Denver\, CO\, 80211\, United States
CATEGORIES:Food Pantry
END:VEVENT
BEGIN:VEVENT
DTSTART;TZID=America/Denver:20241212T153000
DTEND;TZID=America/Denver:20241212T173000
DTSTAMP:20260422T162319
CREATED:20230912T203038Z
LAST-MODIFIED:20251024T212923Z
UID:10001141-1734017400-1734024600@bienvenidosfoodbank.org
SUMMARY:Food Pantry - 3810 Pecos St.  Afternoon: 3:30 pm to 5:30 pm
DESCRIPTION:10:00 am to noon & 3:30 pm to 5:30 pm \nDrop in registration only. We serve by household not individual. Please have ID ready. \nParking: available at 39th and Pecos St. on food bank days only. \nWheelchair or disabled access: Please let someone know in front that you need assistance and we’ll accommodate you.
URL:https://bienvenidosfoodbank.org/event/food-pantry-5-2/2024-12-12/
LOCATION:Bienvenidos Food Bank\, 3810 Pecos Street\, Denver\, CO\, 80211\, United States
CATEGORIES:Food Pantry
END:VEVENT
BEGIN:VEVENT
DTSTART;TZID=America/Denver:20241212T100000
DTEND;TZID=America/Denver:20241212T120000
DTSTAMP:20260422T162319
CREATED:20240223T001543Z
LAST-MODIFIED:20251024T212518Z
UID:10001358-1733997600-1734004800@bienvenidosfoodbank.org
SUMMARY:Food Pantry - 3810 Pecos St.  Morning: 10am to Noon
DESCRIPTION:Bienvenidos Food Bank 3810 Pecos Street\, Denver\, CO\, United States\n\n\n10:00 am to noon & 3:30 pm to 5:30 pm Drop in registration only. We serve by household not individuals. Please have an ID ready. \nParking: available at 39th and Pecos St. on food bank days only. \nWheelchair or disabled access: Please let someone know in front that you need assistance and we’ll accommodate you.
URL:https://bienvenidosfoodbank.org/event/pecos-pantry-morning/2024-12-12/
LOCATION:CO
END:VEVENT
BEGIN:VEVENT
DTSTART;TZID=America/Denver:20241205T153000
DTEND;TZID=America/Denver:20241205T173000
DTSTAMP:20260422T162319
CREATED:20230912T203038Z
LAST-MODIFIED:20251024T212923Z
UID:10001140-1733412600-1733419800@bienvenidosfoodbank.org
SUMMARY:Food Pantry - 3810 Pecos St.  Afternoon: 3:30 pm to 5:30 pm
DESCRIPTION:10:00 am to noon & 3:30 pm to 5:30 pm \nDrop in registration only. We serve by household not individual. Please have ID ready. \nParking: available at 39th and Pecos St. on food bank days only. \nWheelchair or disabled access: Please let someone know in front that you need assistance and we’ll accommodate you.
URL:https://bienvenidosfoodbank.org/event/food-pantry-5-2/2024-12-05/
LOCATION:Bienvenidos Food Bank\, 3810 Pecos Street\, Denver\, CO\, 80211\, United States
CATEGORIES:Food Pantry
END:VEVENT
BEGIN:VEVENT
DTSTART;TZID=America/Denver:20241205T100000
DTEND;TZID=America/Denver:20241205T120000
DTSTAMP:20260422T162319
CREATED:20240223T001543Z
LAST-MODIFIED:20251024T212518Z
UID:10001357-1733392800-1733400000@bienvenidosfoodbank.org
SUMMARY:Food Pantry - 3810 Pecos St.  Morning: 10am to Noon
DESCRIPTION:Bienvenidos Food Bank 3810 Pecos Street\, Denver\, CO\, United States\n\n\n10:00 am to noon & 3:30 pm to 5:30 pm Drop in registration only. We serve by household not individuals. Please have an ID ready. \nParking: available at 39th and Pecos St. on food bank days only. \nWheelchair or disabled access: Please let someone know in front that you need assistance and we’ll accommodate you.
URL:https://bienvenidosfoodbank.org/event/pecos-pantry-morning/2024-12-05/
LOCATION:CO
END:VEVENT
BEGIN:VEVENT
DTSTART;TZID=America/Denver:20241205T100000
DTEND;TZID=America/Denver:20241205T113000
DTSTAMP:20260422T162319
CREATED:20240603T220946Z
LAST-MODIFIED:20240603T224150Z
UID:10001549-1733392800-1733398200@bienvenidosfoodbank.org
SUMMARY:Pet Food Distribution (1st Thur. Only) Parking lot @ 39th & Pecos 10am to 11:30am
DESCRIPTION:The Colorado Pet Pantry will be on-sight this week from 10 am to 11:30. \nPet Food is distributed from the parking lot at 39th & Pecos. Please line up there for check-in and to receive service. \nPlease see CO Pet Pantry volunteers for specific information and sign-up instructions. \nYou may also come down to Bienvenidos Food Pantry for people food (Just up the street at 3810 Pecos St.).  Separate check-in process is required.  Food is available from 10am to noon.
URL:https://bienvenidosfoodbank.org/event/pet-pantry-1st-thursday-parking-lot-at-39th-pecos-10am-to-1130/2024-12-05/
LOCATION:CO
END:VEVENT
BEGIN:VEVENT
DTSTART;TZID=America/Denver:20241128T153000
DTEND;TZID=America/Denver:20241128T173000
DTSTAMP:20260422T162319
CREATED:20240812T230532Z
LAST-MODIFIED:20240812T230533Z
UID:10001139-1732807800-1732815000@bienvenidosfoodbank.org
SUMMARY:Closed - Happy Thanksgiving!
DESCRIPTION:10:00 am to noon & 3:30 pm to 5:30 pm \nDrop in registration – please bring ID and current proof of address. \nParking: available at 39th and Pecos St. on food bank days only. \nWheelchair or disabled access: Please let someone know in front that you need assistance and we’ll accommodate you.
URL:https://bienvenidosfoodbank.org/event/food-pantry-5-2-4/
LOCATION:Bienvenidos Food Bank\, 3810 Pecos Street\, Denver\, CO\, 80211\, United States
CATEGORIES:Food Pantry
END:VEVENT
BEGIN:VEVENT
DTSTART;TZID=America/Denver:20241128T100000
DTEND;TZID=America/Denver:20241128T120000
DTSTAMP:20260422T162319
CREATED:20240812T230407Z
LAST-MODIFIED:20240812T230408Z
UID:10001356-1732788000-1732795200@bienvenidosfoodbank.org
SUMMARY:Closed for Thanksgiving
DESCRIPTION:
URL:https://bienvenidosfoodbank.org/event/pecos-pantry-morning-4/
LOCATION:CO
END:VEVENT
BEGIN:VEVENT
DTSTART;TZID=UTC:20241121T100000
DTEND;TZID=UTC:20241121T120000
DTSTAMP:20260422T162319
CREATED:20240812T230229Z
LAST-MODIFIED:20240812T231309Z
UID:10001042-1732183200-1732190400@bienvenidosfoodbank.org
SUMMARY:Food Pantry @ Pecos St.  (no mobile this month)
DESCRIPTION:  \n10:00 am to Noon  & 3:30 to 5:30 Pm \nDrop in registration – please bring ID and current proof of address. \nParking: 39th and Pecos \nWheelchair or disabled access: Available inside and outside \n 
URL:https://bienvenidosfoodbank.org/event/food-pantry-4-2-2/
LOCATION:Bienvenidos Food Bank\, 3810 Pecos Street\, Denver\, CO\, 80211\, United States
CATEGORIES:Food Pantry
END:VEVENT
BEGIN:VEVENT
DTSTART;TZID=America/Denver:20241114T153000
DTEND;TZID=America/Denver:20241114T173000
DTSTAMP:20260422T162319
CREATED:20230912T203038Z
LAST-MODIFIED:20251024T212923Z
UID:10001138-1731598200-1731605400@bienvenidosfoodbank.org
SUMMARY:Food Pantry - 3810 Pecos St.  Afternoon: 3:30 pm to 5:30 pm
DESCRIPTION:10:00 am to noon & 3:30 pm to 5:30 pm \nDrop in registration only. We serve by household not individual. Please have ID ready. \nParking: available at 39th and Pecos St. on food bank days only. \nWheelchair or disabled access: Please let someone know in front that you need assistance and we’ll accommodate you.
URL:https://bienvenidosfoodbank.org/event/food-pantry-5-2/2024-11-14/
LOCATION:Bienvenidos Food Bank\, 3810 Pecos Street\, Denver\, CO\, 80211\, United States
CATEGORIES:Food Pantry
END:VEVENT
BEGIN:VEVENT
DTSTART;TZID=America/Denver:20241114T100000
DTEND;TZID=America/Denver:20241114T120000
DTSTAMP:20260422T162319
CREATED:20240223T001543Z
LAST-MODIFIED:20251024T212518Z
UID:10001355-1731578400-1731585600@bienvenidosfoodbank.org
SUMMARY:Food Pantry - 3810 Pecos St.  Morning: 10am to Noon
DESCRIPTION:Bienvenidos Food Bank 3810 Pecos Street\, Denver\, CO\, United States\n\n\n10:00 am to noon & 3:30 pm to 5:30 pm Drop in registration only. We serve by household not individuals. Please have an ID ready. \nParking: available at 39th and Pecos St. on food bank days only. \nWheelchair or disabled access: Please let someone know in front that you need assistance and we’ll accommodate you.
URL:https://bienvenidosfoodbank.org/event/pecos-pantry-morning/2024-11-14/
LOCATION:CO
END:VEVENT
BEGIN:VEVENT
DTSTART;TZID=America/Denver:20241107T153000
DTEND;TZID=America/Denver:20241107T173000
DTSTAMP:20260422T162319
CREATED:20241107T184301Z
LAST-MODIFIED:20241107T184309Z
UID:10001137-1730993400-1731000600@bienvenidosfoodbank.org
SUMMARY:Food Pantry - CLOSED TODAY
DESCRIPTION:10:00 am to noon & 3:30 pm to 5:30 pm \nDrop in registration – please bring ID and current proof of address. \nParking: available at 39th and Pecos St. on food bank days only. \nWheelchair or disabled access: Please let someone know in front that you need assistance and we’ll accommodate you.
URL:https://bienvenidosfoodbank.org/event/food-pantry-5-2-7/
LOCATION:Bienvenidos Food Bank\, 3810 Pecos Street\, Denver\, CO\, 80211\, United States
CATEGORIES:Food Pantry
END:VEVENT
BEGIN:VEVENT
DTSTART;TZID=America/Denver:20241107T100000
DTEND;TZID=America/Denver:20241107T120000
DTSTAMP:20260422T162319
CREATED:20240223T001543Z
LAST-MODIFIED:20251024T212518Z
UID:10001354-1730973600-1730980800@bienvenidosfoodbank.org
SUMMARY:Food Pantry - 3810 Pecos St.  Morning: 10am to Noon
DESCRIPTION:Bienvenidos Food Bank 3810 Pecos Street\, Denver\, CO\, United States\n\n\n10:00 am to noon & 3:30 pm to 5:30 pm Drop in registration only. We serve by household not individuals. Please have an ID ready. \nParking: available at 39th and Pecos St. on food bank days only. \nWheelchair or disabled access: Please let someone know in front that you need assistance and we’ll accommodate you.
URL:https://bienvenidosfoodbank.org/event/pecos-pantry-morning/2024-11-07/
LOCATION:CO
END:VEVENT
BEGIN:VEVENT
DTSTART;TZID=America/Denver:20241107T100000
DTEND;TZID=America/Denver:20241107T113000
DTSTAMP:20260422T162319
CREATED:20240603T220946Z
LAST-MODIFIED:20240603T224150Z
UID:10001548-1730973600-1730979000@bienvenidosfoodbank.org
SUMMARY:Pet Food Distribution (1st Thur. Only) Parking lot @ 39th & Pecos 10am to 11:30am
DESCRIPTION:The Colorado Pet Pantry will be on-sight this week from 10 am to 11:30. \nPet Food is distributed from the parking lot at 39th & Pecos. Please line up there for check-in and to receive service. \nPlease see CO Pet Pantry volunteers for specific information and sign-up instructions. \nYou may also come down to Bienvenidos Food Pantry for people food (Just up the street at 3810 Pecos St.).  Separate check-in process is required.  Food is available from 10am to noon.
URL:https://bienvenidosfoodbank.org/event/pet-pantry-1st-thursday-parking-lot-at-39th-pecos-10am-to-1130/2024-11-07/
LOCATION:CO
END:VEVENT
BEGIN:VEVENT
DTSTART;TZID=America/Denver:20241031T153000
DTEND;TZID=America/Denver:20241031T173000
DTSTAMP:20260422T162319
CREATED:20240812T230004Z
LAST-MODIFIED:20240812T230011Z
UID:10001136-1730388600-1730395800@bienvenidosfoodbank.org
SUMMARY:CLOSED THIS WEEK
DESCRIPTION:10:00 am to noon & 3:30 pm to 5:30 pm \nDrop in registration – please bring ID and current proof of address. \nParking: available at 39th and Pecos St. on food bank days only. \nWheelchair or disabled access: Please let someone know in front that you need assistance and we’ll accommodate you.
URL:https://bienvenidosfoodbank.org/event/food-pantry-5-2-3/
LOCATION:Bienvenidos Food Bank\, 3810 Pecos Street\, Denver\, CO\, 80211\, United States
CATEGORIES:Food Pantry
END:VEVENT
BEGIN:VEVENT
DTSTART;TZID=America/Denver:20241031T100000
DTEND;TZID=America/Denver:20241031T120000
DTSTAMP:20260422T162319
CREATED:20240812T225901Z
LAST-MODIFIED:20240812T225901Z
UID:10001353-1730368800-1730376000@bienvenidosfoodbank.org
SUMMARY:CLOSED THIS WEEK
DESCRIPTION:
URL:https://bienvenidosfoodbank.org/event/pecos-pantry-morning-3/
LOCATION:CO
END:VEVENT
BEGIN:VEVENT
DTSTART;TZID=America/Denver:20241024T153000
DTEND;TZID=America/Denver:20241024T173000
DTSTAMP:20260422T162319
CREATED:20230912T203038Z
LAST-MODIFIED:20251024T212923Z
UID:10001135-1729783800-1729791000@bienvenidosfoodbank.org
SUMMARY:Food Pantry - 3810 Pecos St.  Afternoon: 3:30 pm to 5:30 pm
DESCRIPTION:10:00 am to noon & 3:30 pm to 5:30 pm \nDrop in registration only. We serve by household not individual. Please have ID ready. \nParking: available at 39th and Pecos St. on food bank days only. \nWheelchair or disabled access: Please let someone know in front that you need assistance and we’ll accommodate you.
URL:https://bienvenidosfoodbank.org/event/food-pantry-5-2/2024-10-24/
LOCATION:Bienvenidos Food Bank\, 3810 Pecos Street\, Denver\, CO\, 80211\, United States
CATEGORIES:Food Pantry
END:VEVENT
BEGIN:VEVENT
DTSTART;TZID=America/Denver:20241024T100000
DTEND;TZID=America/Denver:20241024T120000
DTSTAMP:20260422T162319
CREATED:20240223T001543Z
LAST-MODIFIED:20251024T212518Z
UID:10001352-1729764000-1729771200@bienvenidosfoodbank.org
SUMMARY:Food Pantry - 3810 Pecos St.  Morning: 10am to Noon
DESCRIPTION:Bienvenidos Food Bank 3810 Pecos Street\, Denver\, CO\, United States\n\n\n10:00 am to noon & 3:30 pm to 5:30 pm Drop in registration only. We serve by household not individuals. Please have an ID ready. \nParking: available at 39th and Pecos St. on food bank days only. \nWheelchair or disabled access: Please let someone know in front that you need assistance and we’ll accommodate you.
URL:https://bienvenidosfoodbank.org/event/pecos-pantry-morning/2024-10-24/
LOCATION:CO
END:VEVENT
END:VCALENDAR