BEGIN:VCALENDAR
VERSION:2.0
PRODID:-//Bienvenidos Food Bank - ECPv6.15.20//NONSGML v1.0//EN
CALSCALE:GREGORIAN
METHOD:PUBLISH
X-WR-CALNAME:Bienvenidos Food Bank
X-ORIGINAL-URL:https://bienvenidosfoodbank.org
X-WR-CALDESC:Events for Bienvenidos Food Bank
REFRESH-INTERVAL;VALUE=DURATION:PT1H
X-Robots-Tag:noindex
X-PUBLISHED-TTL:PT1H
BEGIN:VTIMEZONE
TZID:UTC
BEGIN:STANDARD
TZOFFSETFROM:+0000
TZOFFSETTO:+0000
TZNAME:UTC
DTSTART:20280101T000000
END:STANDARD
END:VTIMEZONE
BEGIN:VTIMEZONE
TZID:America/Denver
BEGIN:DAYLIGHT
TZOFFSETFROM:-0700
TZOFFSETTO:-0600
TZNAME:MDT
DTSTART:20280312T090000
END:DAYLIGHT
BEGIN:STANDARD
TZOFFSETFROM:-0600
TZOFFSETTO:-0700
TZNAME:MST
DTSTART:20281105T080000
END:STANDARD
BEGIN:DAYLIGHT
TZOFFSETFROM:-0700
TZOFFSETTO:-0600
TZNAME:MDT
DTSTART:20290311T090000
END:DAYLIGHT
BEGIN:STANDARD
TZOFFSETFROM:-0600
TZOFFSETTO:-0700
TZNAME:MST
DTSTART:20291104T080000
END:STANDARD
BEGIN:DAYLIGHT
TZOFFSETFROM:-0700
TZOFFSETTO:-0600
TZNAME:MDT
DTSTART:20300310T090000
END:DAYLIGHT
BEGIN:STANDARD
TZOFFSETFROM:-0600
TZOFFSETTO:-0700
TZNAME:MST
DTSTART:20301103T080000
END:STANDARD
END:VTIMEZONE
BEGIN:VEVENT
DTSTART;TZID=UTC:20290118T100000
DTEND;TZID=UTC:20290118T120000
DTSTAMP:20260424T165429
CREATED:20230912T203525Z
LAST-MODIFIED:20240812T233434Z
UID:10001092-1863424800-1863432000@bienvenidosfoodbank.org
SUMMARY:Mobile Food Pantry @ 4747 West Colfax
DESCRIPTION:10:00 am to Noon \nDrop in registration – please bring ID and current proof of address. \nParking: VFW Lot at 4747 W. Colfax\, Denver 80204 \nWheelchair or disabled access: Available inside and outside \nThis location is CLOSED in NOVEBER & DECEMBER
URL:https://bienvenidosfoodbank.org/event/food-pantry-4-2/2029-01-18/
LOCATION:VFW Building\, 4747 West Colfax\, Denver\, CO\, 80204\, United States
CATEGORIES:Food Pantry
END:VEVENT
BEGIN:VEVENT
DTSTART;TZID=America/Denver:20290125T100000
DTEND;TZID=America/Denver:20290125T120000
DTSTAMP:20260424T165429
CREATED:20240223T001543Z
LAST-MODIFIED:20251024T212518Z
UID:10001523-1864029600-1864036800@bienvenidosfoodbank.org
SUMMARY:Food Pantry - 3810 Pecos St.  Morning: 10am to Noon
DESCRIPTION:Bienvenidos Food Bank 3810 Pecos Street\, Denver\, CO\, United States\n\n\n10:00 am to noon & 3:30 pm to 5:30 pm Drop in registration only. We serve by household not individuals. Please have an ID ready. \nParking: available at 39th and Pecos St. on food bank days only. \nWheelchair or disabled access: Please let someone know in front that you need assistance and we’ll accommodate you.
URL:https://bienvenidosfoodbank.org/event/pecos-pantry-morning/2029-01-25/
END:VEVENT
BEGIN:VEVENT
DTSTART;TZID=America/Denver:20290125T153000
DTEND;TZID=America/Denver:20290125T173000
DTSTAMP:20260424T165429
CREATED:20230912T203038Z
LAST-MODIFIED:20251024T212923Z
UID:10001531-1864049400-1864056600@bienvenidosfoodbank.org
SUMMARY:Food Pantry - 3810 Pecos St.  Afternoon: 3:30 pm to 5:30 pm
DESCRIPTION:10:00 am to noon & 3:30 pm to 5:30 pm \nDrop in registration only. We serve by household not individual. Please have ID ready. \nParking: available at 39th and Pecos St. on food bank days only. \nWheelchair or disabled access: Please let someone know in front that you need assistance and we’ll accommodate you.
URL:https://bienvenidosfoodbank.org/event/food-pantry-5-2/2029-01-25/
LOCATION:Bienvenidos Food Bank\, 3810 Pecos Street\, Denver\, CO\, 80211\, United States
CATEGORIES:Food Pantry
END:VEVENT
BEGIN:VEVENT
DTSTART;TZID=America/Denver:20290201T100000
DTEND;TZID=America/Denver:20290201T113000
DTSTAMP:20260424T165429
CREATED:20240603T220946Z
LAST-MODIFIED:20240603T224150Z
UID:10001598-1864634400-1864639800@bienvenidosfoodbank.org
SUMMARY:Pet Food Distribution (1st Thur. Only) Parking lot @ 39th & Pecos 10am to 11:30am
DESCRIPTION:The Colorado Pet Pantry will be on-sight this week from 10 am to 11:30. \nPet Food is distributed from the parking lot at 39th & Pecos. Please line up there for check-in and to receive service. \nPlease see CO Pet Pantry volunteers for specific information and sign-up instructions. \nYou may also come down to Bienvenidos Food Pantry for people food (Just up the street at 3810 Pecos St.).  Separate check-in process is required.  Food is available from 10am to noon.
URL:https://bienvenidosfoodbank.org/event/pet-pantry-1st-thursday-parking-lot-at-39th-pecos-10am-to-1130/2029-02-01/
END:VEVENT
BEGIN:VEVENT
DTSTART;TZID=America/Denver:20290201T100000
DTEND;TZID=America/Denver:20290201T120000
DTSTAMP:20260424T165429
CREATED:20240223T001543Z
LAST-MODIFIED:20251024T212518Z
UID:10001524-1864634400-1864641600@bienvenidosfoodbank.org
SUMMARY:Food Pantry - 3810 Pecos St.  Morning: 10am to Noon
DESCRIPTION:Bienvenidos Food Bank 3810 Pecos Street\, Denver\, CO\, United States\n\n\n10:00 am to noon & 3:30 pm to 5:30 pm Drop in registration only. We serve by household not individuals. Please have an ID ready. \nParking: available at 39th and Pecos St. on food bank days only. \nWheelchair or disabled access: Please let someone know in front that you need assistance and we’ll accommodate you.
URL:https://bienvenidosfoodbank.org/event/pecos-pantry-morning/2029-02-01/
END:VEVENT
BEGIN:VEVENT
DTSTART;TZID=America/Denver:20290201T153000
DTEND;TZID=America/Denver:20290201T173000
DTSTAMP:20260424T165429
CREATED:20230912T203038Z
LAST-MODIFIED:20251024T212923Z
UID:10001532-1864654200-1864661400@bienvenidosfoodbank.org
SUMMARY:Food Pantry - 3810 Pecos St.  Afternoon: 3:30 pm to 5:30 pm
DESCRIPTION:10:00 am to noon & 3:30 pm to 5:30 pm \nDrop in registration only. We serve by household not individual. Please have ID ready. \nParking: available at 39th and Pecos St. on food bank days only. \nWheelchair or disabled access: Please let someone know in front that you need assistance and we’ll accommodate you.
URL:https://bienvenidosfoodbank.org/event/food-pantry-5-2/2029-02-01/
LOCATION:Bienvenidos Food Bank\, 3810 Pecos Street\, Denver\, CO\, 80211\, United States
CATEGORIES:Food Pantry
END:VEVENT
BEGIN:VEVENT
DTSTART;TZID=America/Denver:20290208T100000
DTEND;TZID=America/Denver:20290208T120000
DTSTAMP:20260424T165429
CREATED:20240223T001543Z
LAST-MODIFIED:20251024T212518Z
UID:10001525-1865239200-1865246400@bienvenidosfoodbank.org
SUMMARY:Food Pantry - 3810 Pecos St.  Morning: 10am to Noon
DESCRIPTION:Bienvenidos Food Bank 3810 Pecos Street\, Denver\, CO\, United States\n\n\n10:00 am to noon & 3:30 pm to 5:30 pm Drop in registration only. We serve by household not individuals. Please have an ID ready. \nParking: available at 39th and Pecos St. on food bank days only. \nWheelchair or disabled access: Please let someone know in front that you need assistance and we’ll accommodate you.
URL:https://bienvenidosfoodbank.org/event/pecos-pantry-morning/2029-02-08/
END:VEVENT
BEGIN:VEVENT
DTSTART;TZID=America/Denver:20290208T153000
DTEND;TZID=America/Denver:20290208T173000
DTSTAMP:20260424T165429
CREATED:20230912T203038Z
LAST-MODIFIED:20251024T212923Z
UID:10001533-1865259000-1865266200@bienvenidosfoodbank.org
SUMMARY:Food Pantry - 3810 Pecos St.  Afternoon: 3:30 pm to 5:30 pm
DESCRIPTION:10:00 am to noon & 3:30 pm to 5:30 pm \nDrop in registration only. We serve by household not individual. Please have ID ready. \nParking: available at 39th and Pecos St. on food bank days only. \nWheelchair or disabled access: Please let someone know in front that you need assistance and we’ll accommodate you.
URL:https://bienvenidosfoodbank.org/event/food-pantry-5-2/2029-02-08/
LOCATION:Bienvenidos Food Bank\, 3810 Pecos Street\, Denver\, CO\, 80211\, United States
CATEGORIES:Food Pantry
END:VEVENT
BEGIN:VEVENT
DTSTART;TZID=UTC:20290215T100000
DTEND;TZID=UTC:20290215T120000
DTSTAMP:20260424T165429
CREATED:20230912T203525Z
LAST-MODIFIED:20240812T233434Z
UID:10001529-1865844000-1865851200@bienvenidosfoodbank.org
SUMMARY:Mobile Food Pantry @ 4747 West Colfax
DESCRIPTION:10:00 am to Noon \nDrop in registration – please bring ID and current proof of address. \nParking: VFW Lot at 4747 W. Colfax\, Denver 80204 \nWheelchair or disabled access: Available inside and outside \nThis location is CLOSED in NOVEBER & DECEMBER
URL:https://bienvenidosfoodbank.org/event/food-pantry-4-2/2029-02-15/
LOCATION:VFW Building\, 4747 West Colfax\, Denver\, CO\, 80204\, United States
CATEGORIES:Food Pantry
END:VEVENT
BEGIN:VEVENT
DTSTART;TZID=America/Denver:20290222T100000
DTEND;TZID=America/Denver:20290222T120000
DTSTAMP:20260424T165429
CREATED:20240223T001543Z
LAST-MODIFIED:20251024T212518Z
UID:10001526-1866448800-1866456000@bienvenidosfoodbank.org
SUMMARY:Food Pantry - 3810 Pecos St.  Morning: 10am to Noon
DESCRIPTION:Bienvenidos Food Bank 3810 Pecos Street\, Denver\, CO\, United States\n\n\n10:00 am to noon & 3:30 pm to 5:30 pm Drop in registration only. We serve by household not individuals. Please have an ID ready. \nParking: available at 39th and Pecos St. on food bank days only. \nWheelchair or disabled access: Please let someone know in front that you need assistance and we’ll accommodate you.
URL:https://bienvenidosfoodbank.org/event/pecos-pantry-morning/2029-02-22/
END:VEVENT
BEGIN:VEVENT
DTSTART;TZID=America/Denver:20290222T153000
DTEND;TZID=America/Denver:20290222T173000
DTSTAMP:20260424T165429
CREATED:20230912T203038Z
LAST-MODIFIED:20251024T212923Z
UID:10001534-1866468600-1866475800@bienvenidosfoodbank.org
SUMMARY:Food Pantry - 3810 Pecos St.  Afternoon: 3:30 pm to 5:30 pm
DESCRIPTION:10:00 am to noon & 3:30 pm to 5:30 pm \nDrop in registration only. We serve by household not individual. Please have ID ready. \nParking: available at 39th and Pecos St. on food bank days only. \nWheelchair or disabled access: Please let someone know in front that you need assistance and we’ll accommodate you.
URL:https://bienvenidosfoodbank.org/event/food-pantry-5-2/2029-02-22/
LOCATION:Bienvenidos Food Bank\, 3810 Pecos Street\, Denver\, CO\, 80211\, United States
CATEGORIES:Food Pantry
END:VEVENT
BEGIN:VEVENT
DTSTART;TZID=America/Denver:20290301T100000
DTEND;TZID=America/Denver:20290301T113000
DTSTAMP:20260424T165429
CREATED:20240603T220946Z
LAST-MODIFIED:20240603T224150Z
UID:10001599-1867053600-1867059000@bienvenidosfoodbank.org
SUMMARY:Pet Food Distribution (1st Thur. Only) Parking lot @ 39th & Pecos 10am to 11:30am
DESCRIPTION:The Colorado Pet Pantry will be on-sight this week from 10 am to 11:30. \nPet Food is distributed from the parking lot at 39th & Pecos. Please line up there for check-in and to receive service. \nPlease see CO Pet Pantry volunteers for specific information and sign-up instructions. \nYou may also come down to Bienvenidos Food Pantry for people food (Just up the street at 3810 Pecos St.).  Separate check-in process is required.  Food is available from 10am to noon.
URL:https://bienvenidosfoodbank.org/event/pet-pantry-1st-thursday-parking-lot-at-39th-pecos-10am-to-1130/2029-03-01/
END:VEVENT
BEGIN:VEVENT
DTSTART;TZID=America/Denver:20290301T100000
DTEND;TZID=America/Denver:20290301T120000
DTSTAMP:20260424T165429
CREATED:20240223T001543Z
LAST-MODIFIED:20251024T212518Z
UID:10001527-1867053600-1867060800@bienvenidosfoodbank.org
SUMMARY:Food Pantry - 3810 Pecos St.  Morning: 10am to Noon
DESCRIPTION:Bienvenidos Food Bank 3810 Pecos Street\, Denver\, CO\, United States\n\n\n10:00 am to noon & 3:30 pm to 5:30 pm Drop in registration only. We serve by household not individuals. Please have an ID ready. \nParking: available at 39th and Pecos St. on food bank days only. \nWheelchair or disabled access: Please let someone know in front that you need assistance and we’ll accommodate you.
URL:https://bienvenidosfoodbank.org/event/pecos-pantry-morning/2029-03-01/
END:VEVENT
BEGIN:VEVENT
DTSTART;TZID=America/Denver:20290301T153000
DTEND;TZID=America/Denver:20290301T173000
DTSTAMP:20260424T165429
CREATED:20230912T203038Z
LAST-MODIFIED:20251024T212923Z
UID:10001535-1867073400-1867080600@bienvenidosfoodbank.org
SUMMARY:Food Pantry - 3810 Pecos St.  Afternoon: 3:30 pm to 5:30 pm
DESCRIPTION:10:00 am to noon & 3:30 pm to 5:30 pm \nDrop in registration only. We serve by household not individual. Please have ID ready. \nParking: available at 39th and Pecos St. on food bank days only. \nWheelchair or disabled access: Please let someone know in front that you need assistance and we’ll accommodate you.
URL:https://bienvenidosfoodbank.org/event/food-pantry-5-2/2029-03-01/
LOCATION:Bienvenidos Food Bank\, 3810 Pecos Street\, Denver\, CO\, 80211\, United States
CATEGORIES:Food Pantry
END:VEVENT
BEGIN:VEVENT
DTSTART;TZID=America/Denver:20290308T100000
DTEND;TZID=America/Denver:20290308T120000
DTSTAMP:20260424T165429
CREATED:20240223T001543Z
LAST-MODIFIED:20251024T212518Z
UID:10001528-1867658400-1867665600@bienvenidosfoodbank.org
SUMMARY:Food Pantry - 3810 Pecos St.  Morning: 10am to Noon
DESCRIPTION:Bienvenidos Food Bank 3810 Pecos Street\, Denver\, CO\, United States\n\n\n10:00 am to noon & 3:30 pm to 5:30 pm Drop in registration only. We serve by household not individuals. Please have an ID ready. \nParking: available at 39th and Pecos St. on food bank days only. \nWheelchair or disabled access: Please let someone know in front that you need assistance and we’ll accommodate you.
URL:https://bienvenidosfoodbank.org/event/pecos-pantry-morning/2029-03-08/
END:VEVENT
BEGIN:VEVENT
DTSTART;TZID=America/Denver:20290308T153000
DTEND;TZID=America/Denver:20290308T173000
DTSTAMP:20260424T165429
CREATED:20230912T203038Z
LAST-MODIFIED:20251024T212923Z
UID:10001536-1867678200-1867685400@bienvenidosfoodbank.org
SUMMARY:Food Pantry - 3810 Pecos St.  Afternoon: 3:30 pm to 5:30 pm
DESCRIPTION:10:00 am to noon & 3:30 pm to 5:30 pm \nDrop in registration only. We serve by household not individual. Please have ID ready. \nParking: available at 39th and Pecos St. on food bank days only. \nWheelchair or disabled access: Please let someone know in front that you need assistance and we’ll accommodate you.
URL:https://bienvenidosfoodbank.org/event/food-pantry-5-2/2029-03-08/
LOCATION:Bienvenidos Food Bank\, 3810 Pecos Street\, Denver\, CO\, 80211\, United States
CATEGORIES:Food Pantry
END:VEVENT
BEGIN:VEVENT
DTSTART;TZID=UTC:20290315T100000
DTEND;TZID=UTC:20290315T120000
DTSTAMP:20260424T165429
CREATED:20230912T203525Z
LAST-MODIFIED:20240812T233434Z
UID:10001530-1868263200-1868270400@bienvenidosfoodbank.org
SUMMARY:Mobile Food Pantry @ 4747 West Colfax
DESCRIPTION:10:00 am to Noon \nDrop in registration – please bring ID and current proof of address. \nParking: VFW Lot at 4747 W. Colfax\, Denver 80204 \nWheelchair or disabled access: Available inside and outside \nThis location is CLOSED in NOVEBER & DECEMBER
URL:https://bienvenidosfoodbank.org/event/food-pantry-4-2/2029-03-15/
LOCATION:VFW Building\, 4747 West Colfax\, Denver\, CO\, 80204\, United States
CATEGORIES:Food Pantry
END:VEVENT
BEGIN:VEVENT
DTSTART;TZID=America/Denver:20290322T100000
DTEND;TZID=America/Denver:20290322T120000
DTSTAMP:20260424T165429
CREATED:20240223T001543Z
LAST-MODIFIED:20251024T212518Z
UID:10001540-1868868000-1868875200@bienvenidosfoodbank.org
SUMMARY:Food Pantry - 3810 Pecos St.  Morning: 10am to Noon
DESCRIPTION:Bienvenidos Food Bank 3810 Pecos Street\, Denver\, CO\, United States\n\n\n10:00 am to noon & 3:30 pm to 5:30 pm Drop in registration only. We serve by household not individuals. Please have an ID ready. \nParking: available at 39th and Pecos St. on food bank days only. \nWheelchair or disabled access: Please let someone know in front that you need assistance and we’ll accommodate you.
URL:https://bienvenidosfoodbank.org/event/pecos-pantry-morning/2029-03-22/
END:VEVENT
BEGIN:VEVENT
DTSTART;TZID=America/Denver:20290322T153000
DTEND;TZID=America/Denver:20290322T173000
DTSTAMP:20260424T165429
CREATED:20230912T203038Z
LAST-MODIFIED:20251024T212923Z
UID:10001537-1868887800-1868895000@bienvenidosfoodbank.org
SUMMARY:Food Pantry - 3810 Pecos St.  Afternoon: 3:30 pm to 5:30 pm
DESCRIPTION:10:00 am to noon & 3:30 pm to 5:30 pm \nDrop in registration only. We serve by household not individual. Please have ID ready. \nParking: available at 39th and Pecos St. on food bank days only. \nWheelchair or disabled access: Please let someone know in front that you need assistance and we’ll accommodate you.
URL:https://bienvenidosfoodbank.org/event/food-pantry-5-2/2029-03-22/
LOCATION:Bienvenidos Food Bank\, 3810 Pecos Street\, Denver\, CO\, 80211\, United States
CATEGORIES:Food Pantry
END:VEVENT
BEGIN:VEVENT
DTSTART;TZID=America/Denver:20290329T100000
DTEND;TZID=America/Denver:20290329T120000
DTSTAMP:20260424T165429
CREATED:20240223T001543Z
LAST-MODIFIED:20251024T212518Z
UID:10001541-1869472800-1869480000@bienvenidosfoodbank.org
SUMMARY:Food Pantry - 3810 Pecos St.  Morning: 10am to Noon
DESCRIPTION:Bienvenidos Food Bank 3810 Pecos Street\, Denver\, CO\, United States\n\n\n10:00 am to noon & 3:30 pm to 5:30 pm Drop in registration only. We serve by household not individuals. Please have an ID ready. \nParking: available at 39th and Pecos St. on food bank days only. \nWheelchair or disabled access: Please let someone know in front that you need assistance and we’ll accommodate you.
URL:https://bienvenidosfoodbank.org/event/pecos-pantry-morning/2029-03-29/
END:VEVENT
BEGIN:VEVENT
DTSTART;TZID=America/Denver:20290329T153000
DTEND;TZID=America/Denver:20290329T173000
DTSTAMP:20260424T165429
CREATED:20230912T203038Z
LAST-MODIFIED:20251024T212923Z
UID:10001538-1869492600-1869499800@bienvenidosfoodbank.org
SUMMARY:Food Pantry - 3810 Pecos St.  Afternoon: 3:30 pm to 5:30 pm
DESCRIPTION:10:00 am to noon & 3:30 pm to 5:30 pm \nDrop in registration only. We serve by household not individual. Please have ID ready. \nParking: available at 39th and Pecos St. on food bank days only. \nWheelchair or disabled access: Please let someone know in front that you need assistance and we’ll accommodate you.
URL:https://bienvenidosfoodbank.org/event/food-pantry-5-2/2029-03-29/
LOCATION:Bienvenidos Food Bank\, 3810 Pecos Street\, Denver\, CO\, 80211\, United States
CATEGORIES:Food Pantry
END:VEVENT
BEGIN:VEVENT
DTSTART;TZID=America/Denver:20290405T100000
DTEND;TZID=America/Denver:20290405T113000
DTSTAMP:20260424T165429
CREATED:20240603T220946Z
LAST-MODIFIED:20240603T224150Z
UID:10001600-1870077600-1870083000@bienvenidosfoodbank.org
SUMMARY:Pet Food Distribution (1st Thur. Only) Parking lot @ 39th & Pecos 10am to 11:30am
DESCRIPTION:The Colorado Pet Pantry will be on-sight this week from 10 am to 11:30. \nPet Food is distributed from the parking lot at 39th & Pecos. Please line up there for check-in and to receive service. \nPlease see CO Pet Pantry volunteers for specific information and sign-up instructions. \nYou may also come down to Bienvenidos Food Pantry for people food (Just up the street at 3810 Pecos St.).  Separate check-in process is required.  Food is available from 10am to noon.
URL:https://bienvenidosfoodbank.org/event/pet-pantry-1st-thursday-parking-lot-at-39th-pecos-10am-to-1130/2029-04-05/
END:VEVENT
BEGIN:VEVENT
DTSTART;TZID=America/Denver:20290405T100000
DTEND;TZID=America/Denver:20290405T120000
DTSTAMP:20260424T165429
CREATED:20240223T001543Z
LAST-MODIFIED:20251024T212518Z
UID:10001542-1870077600-1870084800@bienvenidosfoodbank.org
SUMMARY:Food Pantry - 3810 Pecos St.  Morning: 10am to Noon
DESCRIPTION:Bienvenidos Food Bank 3810 Pecos Street\, Denver\, CO\, United States\n\n\n10:00 am to noon & 3:30 pm to 5:30 pm Drop in registration only. We serve by household not individuals. Please have an ID ready. \nParking: available at 39th and Pecos St. on food bank days only. \nWheelchair or disabled access: Please let someone know in front that you need assistance and we’ll accommodate you.
URL:https://bienvenidosfoodbank.org/event/pecos-pantry-morning/2029-04-05/
END:VEVENT
BEGIN:VEVENT
DTSTART;TZID=America/Denver:20290405T153000
DTEND;TZID=America/Denver:20290405T173000
DTSTAMP:20260424T165429
CREATED:20230912T203038Z
LAST-MODIFIED:20251024T212923Z
UID:10001539-1870097400-1870104600@bienvenidosfoodbank.org
SUMMARY:Food Pantry - 3810 Pecos St.  Afternoon: 3:30 pm to 5:30 pm
DESCRIPTION:10:00 am to noon & 3:30 pm to 5:30 pm \nDrop in registration only. We serve by household not individual. Please have ID ready. \nParking: available at 39th and Pecos St. on food bank days only. \nWheelchair or disabled access: Please let someone know in front that you need assistance and we’ll accommodate you.
URL:https://bienvenidosfoodbank.org/event/food-pantry-5-2/2029-04-05/
LOCATION:Bienvenidos Food Bank\, 3810 Pecos Street\, Denver\, CO\, 80211\, United States
CATEGORIES:Food Pantry
END:VEVENT
BEGIN:VEVENT
DTSTART;TZID=America/Denver:20290412T100000
DTEND;TZID=America/Denver:20290412T120000
DTSTAMP:20260424T165429
CREATED:20240223T001543Z
LAST-MODIFIED:20251024T212518Z
UID:10001602-1870682400-1870689600@bienvenidosfoodbank.org
SUMMARY:Food Pantry - 3810 Pecos St.  Morning: 10am to Noon
DESCRIPTION:Bienvenidos Food Bank 3810 Pecos Street\, Denver\, CO\, United States\n\n\n10:00 am to noon & 3:30 pm to 5:30 pm Drop in registration only. We serve by household not individuals. Please have an ID ready. \nParking: available at 39th and Pecos St. on food bank days only. \nWheelchair or disabled access: Please let someone know in front that you need assistance and we’ll accommodate you.
URL:https://bienvenidosfoodbank.org/event/pecos-pantry-morning/2029-04-12/
END:VEVENT
BEGIN:VEVENT
DTSTART;TZID=America/Denver:20290412T153000
DTEND;TZID=America/Denver:20290412T173000
DTSTAMP:20260424T165429
CREATED:20230912T203038Z
LAST-MODIFIED:20251024T212923Z
UID:10001616-1870702200-1870709400@bienvenidosfoodbank.org
SUMMARY:Food Pantry - 3810 Pecos St.  Afternoon: 3:30 pm to 5:30 pm
DESCRIPTION:10:00 am to noon & 3:30 pm to 5:30 pm \nDrop in registration only. We serve by household not individual. Please have ID ready. \nParking: available at 39th and Pecos St. on food bank days only. \nWheelchair or disabled access: Please let someone know in front that you need assistance and we’ll accommodate you.
URL:https://bienvenidosfoodbank.org/event/food-pantry-5-2/2029-04-12/
LOCATION:Bienvenidos Food Bank\, 3810 Pecos Street\, Denver\, CO\, 80211\, United States
CATEGORIES:Food Pantry
END:VEVENT
BEGIN:VEVENT
DTSTART;TZID=UTC:20290419T100000
DTEND;TZID=UTC:20290419T120000
DTSTAMP:20260424T165429
CREATED:20230912T203525Z
LAST-MODIFIED:20240812T233434Z
UID:10001631-1871287200-1871294400@bienvenidosfoodbank.org
SUMMARY:Mobile Food Pantry @ 4747 West Colfax
DESCRIPTION:10:00 am to Noon \nDrop in registration – please bring ID and current proof of address. \nParking: VFW Lot at 4747 W. Colfax\, Denver 80204 \nWheelchair or disabled access: Available inside and outside \nThis location is CLOSED in NOVEBER & DECEMBER
URL:https://bienvenidosfoodbank.org/event/food-pantry-4-2/2029-04-19/
LOCATION:VFW Building\, 4747 West Colfax\, Denver\, CO\, 80204\, United States
CATEGORIES:Food Pantry
END:VEVENT
BEGIN:VEVENT
DTSTART;TZID=America/Denver:20290426T100000
DTEND;TZID=America/Denver:20290426T120000
DTSTAMP:20260424T165429
CREATED:20240223T001543Z
LAST-MODIFIED:20251024T212518Z
UID:10001603-1871892000-1871899200@bienvenidosfoodbank.org
SUMMARY:Food Pantry - 3810 Pecos St.  Morning: 10am to Noon
DESCRIPTION:Bienvenidos Food Bank 3810 Pecos Street\, Denver\, CO\, United States\n\n\n10:00 am to noon & 3:30 pm to 5:30 pm Drop in registration only. We serve by household not individuals. Please have an ID ready. \nParking: available at 39th and Pecos St. on food bank days only. \nWheelchair or disabled access: Please let someone know in front that you need assistance and we’ll accommodate you.
URL:https://bienvenidosfoodbank.org/event/pecos-pantry-morning/2029-04-26/
END:VEVENT
BEGIN:VEVENT
DTSTART;TZID=America/Denver:20290426T153000
DTEND;TZID=America/Denver:20290426T173000
DTSTAMP:20260424T165429
CREATED:20230912T203038Z
LAST-MODIFIED:20251024T212923Z
UID:10001617-1871911800-1871919000@bienvenidosfoodbank.org
SUMMARY:Food Pantry - 3810 Pecos St.  Afternoon: 3:30 pm to 5:30 pm
DESCRIPTION:10:00 am to noon & 3:30 pm to 5:30 pm \nDrop in registration only. We serve by household not individual. Please have ID ready. \nParking: available at 39th and Pecos St. on food bank days only. \nWheelchair or disabled access: Please let someone know in front that you need assistance and we’ll accommodate you.
URL:https://bienvenidosfoodbank.org/event/food-pantry-5-2/2029-04-26/
LOCATION:Bienvenidos Food Bank\, 3810 Pecos Street\, Denver\, CO\, 80211\, United States
CATEGORIES:Food Pantry
END:VEVENT
BEGIN:VEVENT
DTSTART;TZID=America/Denver:20290503T100000
DTEND;TZID=America/Denver:20290503T113000
DTSTAMP:20260424T165429
CREATED:20240603T220946Z
LAST-MODIFIED:20240603T224150Z
UID:10001601-1872496800-1872502200@bienvenidosfoodbank.org
SUMMARY:Pet Food Distribution (1st Thur. Only) Parking lot @ 39th & Pecos 10am to 11:30am
DESCRIPTION:The Colorado Pet Pantry will be on-sight this week from 10 am to 11:30. \nPet Food is distributed from the parking lot at 39th & Pecos. Please line up there for check-in and to receive service. \nPlease see CO Pet Pantry volunteers for specific information and sign-up instructions. \nYou may also come down to Bienvenidos Food Pantry for people food (Just up the street at 3810 Pecos St.).  Separate check-in process is required.  Food is available from 10am to noon.
URL:https://bienvenidosfoodbank.org/event/pet-pantry-1st-thursday-parking-lot-at-39th-pecos-10am-to-1130/2029-05-03/
END:VEVENT
END:VCALENDAR